BEGIN:VCALENDAR
VERSION:2.0
PRODID:-//Hold Up Roll Up - ECPv6.15.18//NONSGML v1.0//EN
CALSCALE:GREGORIAN
METHOD:PUBLISH
X-ORIGINAL-URL:https://content.holduprollup.com
X-WR-CALDESC:Events for Hold Up Roll Up
REFRESH-INTERVAL;VALUE=DURATION:PT1H
X-Robots-Tag:noindex
X-PUBLISHED-TTL:PT1H
BEGIN:VTIMEZONE
TZID:America/New_York
BEGIN:DAYLIGHT
TZOFFSETFROM:-0500
TZOFFSETTO:-0400
TZNAME:EDT
DTSTART:20240310T070000
END:DAYLIGHT
BEGIN:STANDARD
TZOFFSETFROM:-0400
TZOFFSETTO:-0500
TZNAME:EST
DTSTART:20241103T060000
END:STANDARD
BEGIN:DAYLIGHT
TZOFFSETFROM:-0500
TZOFFSETTO:-0400
TZNAME:EDT
DTSTART:20250309T070000
END:DAYLIGHT
BEGIN:STANDARD
TZOFFSETFROM:-0400
TZOFFSETTO:-0500
TZNAME:EST
DTSTART:20251102T060000
END:STANDARD
BEGIN:DAYLIGHT
TZOFFSETFROM:-0500
TZOFFSETTO:-0400
TZNAME:EDT
DTSTART:20260308T070000
END:DAYLIGHT
BEGIN:STANDARD
TZOFFSETFROM:-0400
TZOFFSETTO:-0500
TZNAME:EST
DTSTART:20261101T060000
END:STANDARD
END:VTIMEZONE
BEGIN:VEVENT
DTSTART;TZID=America/New_York:20251219T080000
DTEND;TZID=America/New_York:20251219T090000
DTSTAMP:20260419T214646
CREATED:20251118T212254Z
LAST-MODIFIED:20251208T222314Z
UID:1937-1766131200-1766134800@content.holduprollup.com
SUMMARY:December Yoga Pop-Up with the Hot Yoga Spot!
DESCRIPTION:Start your morning with movement! 🧘‍♀️ \nJoin us on Friday\, December 19 from 8–9 AM for our Yoga Pop-Up in collaboration with The Hot Yoga Spot. \nAfter class\, enjoy complimentary post-class recovery from Bare Blends and relaxing massage therapy with Cordelia June. \nSponsored by Eaton Botanicals and Papa & Barkley! \nRSVP today — limited spots available. Please bring your own mat! \nhttps://partiful.com/e/CeeIIXWp1pxFN5D8lKGD?source=share
URL:/event/yoga-pop-up-with-the-hot-yoga-spot/
LOCATION:Hold Up Roll Up\, 196 Washington Avenue\, Albany\, NY\, 12210\, United States
ATTACH;FMTTYPE=image/png:/wp-content/uploads/2025/11/Yoga-Pop-Up-TV.png
END:VEVENT
END:VCALENDAR